BEGIN:VCALENDAR
VERSION:2.0
PRODID:-//Pfälzerwald-Verein Ortsgruppe Esthal - ECPv6.14.2//NONSGML v1.0//EN
CALSCALE:GREGORIAN
METHOD:PUBLISH
X-WR-CALNAME:Pfälzerwald-Verein Ortsgruppe Esthal
X-ORIGINAL-URL:https://www.pwv-esthal.de
X-WR-CALDESC:Veranstaltungen für Pfälzerwald-Verein Ortsgruppe Esthal
REFRESH-INTERVAL;VALUE=DURATION:PT1H
X-Robots-Tag:noindex
X-PUBLISHED-TTL:PT1H
BEGIN:VTIMEZONE
TZID:Europe/Berlin
BEGIN:DAYLIGHT
TZOFFSETFROM:+0100
TZOFFSETTO:+0200
TZNAME:CEST
DTSTART:20250330T010000
END:DAYLIGHT
BEGIN:STANDARD
TZOFFSETFROM:+0200
TZOFFSETTO:+0100
TZNAME:CET
DTSTART:20251026T010000
END:STANDARD
END:VTIMEZONE
BEGIN:VEVENT
DTSTART;TZID=Europe/Berlin:20250810T094500
DTEND;TZID=Europe/Berlin:20250810T170000
DTSTAMP:20260424T100930
CREATED:20250728T150109Z
LAST-MODIFIED:20250728T150154Z
UID:2787-1754819100-1754845200@www.pwv-esthal.de
SUMMARY:Drumrum Wanderung Andersrum
DESCRIPTION:PVW – Drumrum Wanderung Andersrum\n\n\n\n\n\nTreffpunkt: 9:45 Uhr am Busplatz EsthalStreckenlänge: circa 12 kmWanderführer: Hermann FunkInfo unter www.pwv-esthal.de
URL:https://www.pwv-esthal.de/event/drumrum-wanderung-andersrum/
LOCATION:Busplatz Esthal\, Bergstraße 3\, Esthal\, 67472
CATEGORIES:Alle Termine,Wandern
ATTACH;FMTTYPE=image/jpeg:https://www.pwv-esthal.de/wp-content/uploads/2023/10/6071714_3_org_20221106_drumrum_weg_.jpg
END:VEVENT
END:VCALENDAR